1.0000000000
0.0000000000
0.0000000000
-1.0000000000
749771.5000000000
4453191.5000000000
