1.0000000000
0.0000000000
0.0000000000
-1.0000000000
750001.5000000000
4446252.5000000000
