1.0000000000
0.0000000000
0.0000000000
-1.0000000000
589054.5000000000
4539672.5000000000
