1.0000000000
0.0000000000
0.0000000000
-1.0000000000
732630.5000000000
4654081.5000000000
