1.0000000000
0.0000000000
0.0000000000
-1.0000000000
432340.5000000000
4650399.5000000000
