1.0000000000
0.0000000000
0.0000000000
-1.0000000000
421826.5000000000
4636626.5000000000
