1.0000000000
0.0000000000
0.0000000000
-1.0000000000
452974.5000000000
4636354.5000000000
