1.0000000000
0.0000000000
0.0000000000
-1.0000000000
426806.5000000000
4615754.5000000000
