1.0000000000
0.0000000000
0.0000000000
-1.0000000000
442480.5000000000
4622551.5000000000
