1.0000000000
0.0000000000
0.0000000000
-1.0000000000
442425.5000000000
4615612.5000000000
