1.0000000000
0.0000000000
0.0000000000
-1.0000000000
437219.5000000000
4615656.5000000000
