1.0000000000
0.0000000000
0.0000000000
-1.0000000000
452883.5000000000
4622476.5000000000
