1.0000000000
0.0000000000
0.0000000000
-1.0000000000
447682.5000000000
4622512.5000000000
