1.0000000000
0.0000000000
0.0000000000
-1.0000000000
463286.5000000000
4622416.5000000000
