1.0000000000
0.0000000000
0.0000000000
-1.0000000000
458085.5000000000
4622444.5000000000
