1.0000000000
0.0000000000
0.0000000000
-1.0000000000
463251.5000000000
4615477.5000000000
