1.0000000000
0.0000000000
0.0000000000
-1.0000000000
473689.5000000000
4622370.5000000000
