1.0000000000
0.0000000000
0.0000000000
-1.0000000000
473664.5000000000
4615431.5000000000
