1.0000000000
0.0000000000
0.0000000000
-1.0000000000
468457.5000000000
4615452.5000000000
