1.0000000000
0.0000000000
0.0000000000
-1.0000000000
484091.5000000000
4622340.5000000000
