1.0000000000
0.0000000000
0.0000000000
-1.0000000000
478890.5000000000
4622353.5000000000
