1.0000000000
0.0000000000
0.0000000000
-1.0000000000
484076.5000000000
4615401.5000000000
