1.0000000000
0.0000000000
0.0000000000
-1.0000000000
494494.5000000000
4622325.5000000000
