1.0000000000
0.0000000000
0.0000000000
-1.0000000000
416313.5000000000
4608928.5000000000
