1.0000000000
0.0000000000
0.0000000000
-1.0000000000
255931.5000000000
4647315.5000000000
