1.0000000000
0.0000000000
0.0000000000
-1.0000000000
250744.5000000000
4647495.5000000000
