1.0000000000
0.0000000000
0.0000000000
-1.0000000000
261351.5000000000
4654079.5000000000
