1.0000000000
0.0000000000
0.0000000000
-1.0000000000
266305.5000000000
4646967.5000000000
