1.0000000000
0.0000000000
0.0000000000
-1.0000000000
271715.5000000000
4653739.5000000000
