1.0000000000
0.0000000000
0.0000000000
-1.0000000000
276679.5000000000
4646634.5000000000
