1.0000000000
0.0000000000
0.0000000000
-1.0000000000
282078.5000000000
4653413.5000000000
