1.0000000000
0.0000000000
0.0000000000
-1.0000000000
297624.5000000000
4652954.5000000000
