1.0000000000
0.0000000000
0.0000000000
-1.0000000000
292239.5000000000
4646163.5000000000
