1.0000000000
0.0000000000
0.0000000000
-1.0000000000
307987.5000000000
4652667.5000000000
