1.0000000000
0.0000000000
0.0000000000
-1.0000000000
307800.5000000000
4645727.5000000000
