1.0000000000
0.0000000000
0.0000000000
-1.0000000000
302613.5000000000
4645869.5000000000
