1.0000000000
0.0000000000
0.0000000000
-1.0000000000
313168.5000000000
4652529.5000000000
