1.0000000000
0.0000000000
0.0000000000
-1.0000000000
318173.5000000000
4645455.5000000000
