1.0000000000
0.0000000000
0.0000000000
-1.0000000000
312986.5000000000
4645589.5000000000
