1.0000000000
0.0000000000
0.0000000000
-1.0000000000
255694.5000000000
4640375.5000000000
