1.0000000000
0.0000000000
0.0000000000
-1.0000000000
250502.5000000000
4640554.5000000000
