1.0000000000
0.0000000000
0.0000000000
-1.0000000000
266078.5000000000
4640027.5000000000
