1.0000000000
0.0000000000
0.0000000000
-1.0000000000
260886.5000000000
4640199.5000000000
