1.0000000000
0.0000000000
0.0000000000
-1.0000000000
265851.5000000000
4633087.5000000000
