1.0000000000
0.0000000000
0.0000000000
-1.0000000000
260654.5000000000
4633259.5000000000
