1.0000000000
0.0000000000
0.0000000000
-1.0000000000
271270.5000000000
4639859.5000000000
