1.0000000000
0.0000000000
0.0000000000
-1.0000000000
276245.5000000000
4632754.5000000000
