1.0000000000
0.0000000000
0.0000000000
-1.0000000000
286845.5000000000
4639376.5000000000
