1.0000000000
0.0000000000
0.0000000000
-1.0000000000
286639.5000000000
4632437.5000000000
