1.0000000000
0.0000000000
0.0000000000
-1.0000000000
297229.5000000000
4639074.5000000000
